BEGIN:VCALENDAR
VERSION:2.0
PRODID:-//Tukios.com/
BEGIN:VEVENT
UID:dcd17288-5e48-400c-b1a4-e4972097d2c4@www.arnmortuary.com
DTSTAMP:20260422T190931Z
DTSTART:20260423T160000Z
DTEND:20260423T170000Z
SUMMARY:Graveside Service
DESCRIPTION:
URL:https://www.arnmortuary.com/obituaries/nathan-voldman
LOCATION: 1300 East 161st Street  Westfield IN 46074
GEO:40.0220418;-86.1354033
END:VEVENT
END:VCALENDAR