BEGIN:VCALENDAR
VERSION:2.0
PRODID:-//Tukios.com/
BEGIN:VEVENT
UID:d0cc43dd-8a71-4ba8-85a3-ca58b247c749@www.arnmortuary.com
DTSTAMP:20260424T194911Z
DTSTART:20260426T140000Z
DTEND:20260426T150000Z
SUMMARY:Graveside Service
DESCRIPTION:
URL:https://www.arnmortuary.com/obituaries/leonard-drescher
LOCATION: 2200 South West Street  Indianapolis IN 46225
GEO:39.7357348;-86.1688442
END:VEVENT
END:VCALENDAR